BEGIN:VCALENDAR
VERSION:2.0
PRODID:-//ekolurra - ECPv6.15.20//NONSGML v1.0//EN
CALSCALE:GREGORIAN
METHOD:PUBLISH
X-WR-CALNAME:ekolurra
X-ORIGINAL-URL:https://ekolurra.eus/es/
X-WR-CALDESC:Eventos para ekolurra
REFRESH-INTERVAL;VALUE=DURATION:PT1H
X-Robots-Tag:noindex
X-PUBLISHED-TTL:PT1H
BEGIN:VTIMEZONE
TZID:UTC
BEGIN:STANDARD
TZOFFSETFROM:+0000
TZOFFSETTO:+0000
TZNAME:UTC
DTSTART:20250101T000000
END:STANDARD
END:VTIMEZONE
BEGIN:VEVENT
DTSTART;TZID=UTC:20260428T170000
DTEND;TZID=UTC:20260428T193000
DTSTAMP:20260421T112148
CREATED:20260331T113302Z
LAST-MODIFIED:20260331T114604Z
UID:17974-1777395600-1777404600@ekolurra.eus
SUMMARY:HOPE video-forum: todavía estamos a tiempo
DESCRIPTION:El martes 28 de abril a las 17:00 tendremos una oportunidad única para mirar al futuro desde una perspectiva optimista pero realista. En colaboración con los organizadores de Bioterra\, organizaremos el HOPE video-forum\, un espacio para reflexionar sobre los retos actuales y conocer posibles soluciones. \nHope! Estamos a Tiempo no es un documental cualquiera. Esta propuesta cultural y divulgativa lanza un mensaje claro: todavía estamos a tiempo de evitar lo peor. Desde un enfoque positivo\, muestra soluciones reales que ya están en marcha en diferentes partes del mundo\, a través de historias inspiradoras y la voz de expertos. \nEl proyecto ha sido creado por Javier Peña\, y producido por El Gatoverde Producciones y Cine365 Films. La dirección corre a cargo de Jaime Bartolomé y Álvaro Ron.
URL:https://ekolurra.eus/es/event/hope-bideo-foruma-oraindik-garaiz-gaude/
LOCATION:ENEEK-Ekolurra
CATEGORIES:JORNADA,TAILERRA
END:VEVENT
END:VCALENDAR