BEGIN:VCALENDAR
VERSION:2.0
PRODID:-//ekolurra - ECPv6.15.20//NONSGML v1.0//EN
CALSCALE:GREGORIAN
METHOD:PUBLISH
X-ORIGINAL-URL:https://ekolurra.eus
X-WR-CALDESC:Events for ekolurra
REFRESH-INTERVAL;VALUE=DURATION:PT1H
X-Robots-Tag:noindex
X-PUBLISHED-TTL:PT1H
BEGIN:VTIMEZONE
TZID:UTC
BEGIN:STANDARD
TZOFFSETFROM:+0000
TZOFFSETTO:+0000
TZNAME:UTC
DTSTART:20250101T000000
END:STANDARD
END:VTIMEZONE
BEGIN:VEVENT
DTSTART;TZID=UTC:20260428T170000
DTEND;TZID=UTC:20260428T193000
DTSTAMP:20260421T094728
CREATED:20260331T113302Z
LAST-MODIFIED:20260331T113302Z
UID:17970-1777395600-1777404600@ekolurra.eus
SUMMARY:HOPE bideo-foruma: oraindik garaiz gaude
DESCRIPTION:Apirilaren 28an\, asteartea\, 17:00etan\, aukera paregabea izango dugu etorkizunari begirada baikor baina errealista bat emateko. Bioterrako antolatzaileekin elkarlanean\, HOPE bideo-foruma antolatuko dugu\, gaur egungo erronkei buruz hausnartu eta irtenbide posibleak ezagutzeko gune gisa. \nHope! Estamos a Tiempo ez da ohiko dokumental bat. Proposamen kultural eta dibulgatzaile honek mezu argi bat zabaltzen du: oraindik garaiz gaude okerrena saihesteko. Ikuspegi baikor batetik abiatuta\, munduan zehar martxan dauden benetako irtenbideak erakusten ditu\, istorio inspiratzaileen eta adituen ahotsen bidez. \nProiektu hau Javier Peña-k sortu du\, eta El Gatoverde Producciones eta Cine365 Films ekoiztetxeek ekoitzi dute. Zuzendaritza lanak Jaime Bartolomé eta Álvaro Ron-en esku egon dira.
URL:https://ekolurra.eus/event/hope-bideo-foruma-oraindik-garaiz-gaude/
LOCATION:ENEEK-Ekolurra
CATEGORIES:SAIOAK,TAILERRA
END:VEVENT
END:VCALENDAR