BEGIN:VCALENDAR
VERSION:2.0
PRODID:-//ekolurra - ECPv6.15.20//NONSGML v1.0//EN
CALSCALE:GREGORIAN
METHOD:PUBLISH
X-WR-CALNAME:ekolurra
X-ORIGINAL-URL:https://ekolurra.eus
X-WR-CALDESC:Events for ekolurra
REFRESH-INTERVAL;VALUE=DURATION:PT1H
X-Robots-Tag:noindex
X-PUBLISHED-TTL:PT1H
BEGIN:VTIMEZONE
TZID:UTC
BEGIN:STANDARD
TZOFFSETFROM:+0000
TZOFFSETTO:+0000
TZNAME:UTC
DTSTART:20230101T000000
END:STANDARD
END:VTIMEZONE
BEGIN:VEVENT
DTSTART;TZID=UTC:20240922T100000
DTEND;TZID=UTC:20240922T140000
DTSTAMP:20260421T052345
CREATED:20240916T062147Z
LAST-MODIFIED:20240916T062147Z
UID:15898-1726999200-1727013600@ekolurra.eus
SUMMARY:Zeraingo azoka ekologikoa
DESCRIPTION:
URL:https://ekolurra.eus/event/zeraingo-azoka-ekologikoa/
ORGANIZER;CN="BIOLUR":MAILTO:biolur@biolur.eus
END:VEVENT
BEGIN:VEVENT
DTSTART;VALUE=DATE:20240923
DTEND;VALUE=DATE:20240924
DTSTAMP:20260421T052345
CREATED:20240916T061630Z
LAST-MODIFIED:20240916T061630Z
UID:15892-1727049600-1727135999@ekolurra.eus
SUMMARY:Europar Batasuneko Nekazaritza Ekologikoaren Eguna
DESCRIPTION:
URL:https://ekolurra.eus/event/europar-batasuneko-nekazaritza-ekologikoaren-eguna/
END:VEVENT
BEGIN:VEVENT
DTSTART;TZID=UTC:20240928T100000
DTEND;TZID=UTC:20240928T140000
DTSTAMP:20260421T052345
CREATED:20240916T062406Z
LAST-MODIFIED:20240916T062406Z
UID:15900-1727517600-1727532000@ekolurra.eus
SUMMARY:Mungiako azoka ekologikoa
DESCRIPTION:
URL:https://ekolurra.eus/event/mungiako-azoka-ekologikoa/
END:VEVENT
END:VCALENDAR