BEGIN:VCALENDAR
VERSION:2.0
PRODID:-//ekolurra - ECPv6.15.20//NONSGML v1.0//EN
CALSCALE:GREGORIAN
METHOD:PUBLISH
X-WR-CALNAME:ekolurra
X-ORIGINAL-URL:https://ekolurra.eus
X-WR-CALDESC:Events for ekolurra
REFRESH-INTERVAL;VALUE=DURATION:PT1H
X-Robots-Tag:noindex
X-PUBLISHED-TTL:PT1H
BEGIN:VTIMEZONE
TZID:UTC
BEGIN:STANDARD
TZOFFSETFROM:+0000
TZOFFSETTO:+0000
TZNAME:UTC
DTSTART:20240101T000000
END:STANDARD
END:VTIMEZONE
BEGIN:VEVENT
DTSTART;TZID=UTC:20250113T100000
DTEND;TZID=UTC:20250203T180000
DTSTAMP:20260421T174103
CREATED:20250114T113535Z
LAST-MODIFIED:20250114T113535Z
UID:16387-1736762400-1738605600@ekolurra.eus
SUMMARY:“Elikadura ekologikoarekin dena hobetzen da” erakusketa.
DESCRIPTION:
URL:https://ekolurra.eus/event/elikadura-ekologikoarekin-dena-hobetzen-da-erakusketa/
LOCATION:EKOETXEA Azpeitia\, Loiola Auzoa Gunea\, 1\, Azpeitia\, Gipuzkoa\, 20730
END:VEVENT
END:VCALENDAR